BEGIN:VCALENDAR
VERSION:2.0
PRODID:-//Compass Behavioral Health - ECPv6.15.20//NONSGML v1.0//EN
CALSCALE:GREGORIAN
METHOD:PUBLISH
X-ORIGINAL-URL:https://compassbehavioralhealth.com
X-WR-CALDESC:Events for Compass Behavioral Health
REFRESH-INTERVAL;VALUE=DURATION:PT1H
X-Robots-Tag:noindex
X-PUBLISHED-TTL:PT1H
BEGIN:VTIMEZONE
TZID:UTC
BEGIN:STANDARD
TZOFFSETFROM:+0000
TZOFFSETTO:+0000
TZNAME:UTC
DTSTART:20240101T000000
END:STANDARD
END:VTIMEZONE
BEGIN:VEVENT
DTSTART;VALUE=DATE:20250103
DTEND;VALUE=DATE:20250111
DTSTAMP:20260424T124152
CREATED:20241209T191119Z
LAST-MODIFIED:20241210T185316Z
UID:6558-1735862400-1736553599@compassbehavioralhealth.com
SUMMARY:SPACE Workshop
DESCRIPTION:SPACE (Supportive Parenting for Anxious Childhood Emotions developed at Yale University)\nDate: January 3rd & 10th\, 2025  |  Time: 8am-4pm PST \nThis intermediate-to-advanced workshop offers step-by-step instruction on implementing SPACE\, an evidence-based\, parent-focused treatment for childhood and adolescent anxiety and obsessive-compulsive disorder (OCD). Research shows SPACE is as effective as individual cognitive-behavioral therapy (CBT)\, making it a vital tool for expanding your clinical practice.\nMore Event Info \n\nLearning Objectives\n\nExplain three key differences in how anxiety manifests in children compared to adults\nDescribe empirical evidence supporting the efficacy of SPACE and identify three limitations of this evidence\nIdentify and describe the eight main components of the SPACE treatment\nFormulate at least three supportive parental responses to typical child anxiety\nIdentify the 6 key questions to address when helping parents develop specific plans to reduce their parental accommodations of child anxiety\, OCD and related disorders\nIdentify three potential barriers to treatment and how to manage them\n\n\nAbout the Instructor\nRebecca Etkin\, PhD (#004113)\, is a licensed clinical psychologist and postdoctoral associate at the Yale Child Study Center in the Anxiety & Mood Disorders Program. Rebecca received her bachelor’s degree in psychology and Spanish from Johns Hopkins University in 2010 and her doctoral degree in clinical psychology from University at Buffalo\, The State University of New York in 2019. Her research seeks to understand the linkages between child and adolescent internalizing problems and parent-child and peer relationships\, with a focus on anxiety and related disorders. She has been a SPACE provider and trainer for over 5 years and has delivered SPACE and other evidence-based anxiety treatments to over 100 youth and their families. \n\nRegistration\nPlease REGISTER before paying for this training \n***This workshop is designed for clinicians interested in delivering SPACE in their practice. It is not intended for parents seeking guidance for their own child.
URL:https://compassbehavioralhealth.com/event/space-workshop/
LOCATION:Remote Via Zoom
ATTACH;FMTTYPE=image/png:https://compassbehavioralhealth.com/wp-content/uploads/2024/12/SPACE-WORKSHOP.png
ORGANIZER;CN="Compass Research & Training Institute":MAILTO:trainings@mycompassnow.com
END:VEVENT
END:VCALENDAR